0.3806218965
0.0000000000
0.0000000000
-0.3814545541
6427825.8373681298
5665210.1646479303
