0.1638755122
0.0000000000
0.0000000000
-0.1660943292
6431066.3693484999
5664759.3456357196
