0.0860287268
0.0000000000
0.0000000000
-0.0859789051
6430966.8551023602
5667386.7781634899
