0.1716662026
0.0000000000
0.0000000000
-0.1698330359
6439111.0420323797
5669965.0732396496
