0.1706561686
0.0000000000
0.0000000000
-0.1727299503
6423823.4419054296
5666200.6752157602
