0.0862434437
0.0000000000
0.0000000000
-0.0856778908
6429526.4088663599
5659802.4666165598
