0.0850012947
0.0000000000
0.0000000000
-0.0849506499
6441194.7716868604
5663401.4044553600
