0.0858084616
0.0000000000
0.0000000000
-0.0866917659
6431441.0457019601
5659044.8247022703
