0.0864013820
0.0000000000
0.0000000000
-0.0852857427
6432862.4243649300
5669583.1484825499
