0.1692004579
0.0000000000
0.0000000000
-0.1672432753
6424935.1315952996
5672434.5786703601
