0.0862638686
0.0000000000
0.0000000000
-0.0856284630
6427381.7577195903
5660579.7429350298
