0.0857738371
0.0000000000
0.0000000000
-0.0856864431
6432413.9408238698
5664790.6739572398
