0.0852833724
0.0000000000
0.0000000000
-0.0863016544
6432955.6934323302
5661828.4335979503
