0.0861738405
0.0000000000
0.0000000000
-0.0852614662
6434912.6818150496
5668479.6127902800
