0.0854177592
0.0000000000
0.0000000000
-0.0860777638
6432748.4550064402
5664546.8131604102
