0.1706941117
0.0000000000
0.0000000000
-0.1723559704
6434428.1276840903
5664652.4064235799
