0.0857840265
0.0000000000
0.0000000000
-0.0856067204
6428885.2554890998
5665859.9179662596
