0.0854714455
0.0000000000
0.0000000000
-0.0859871766
6427327.9145281799
5666485.6313982001
