0.0855882333
0.0000000000
0.0000000000
-0.0858234241
6426694.3845942896
5659705.0491365502
