0.0854807825
0.0000000000
0.0000000000
-0.0860657694
6431574.1313315500
5664760.7421366498
