0.0856223654
0.0000000000
0.0000000000
-0.0857514394
6422554.8935642503
5665866.4864228601
