0.0859642371
0.0000000000
0.0000000000
-0.0854694020
6431849.8946519597
5670184.5867309198
