0.1709894688
0.0000000000
0.0000000000
-0.1716934094
6436702.8061199700
5668969.3709794898
