0.1709837382
0.0000000000
0.0000000000
-0.1719535468
6428780.4059147397
5667311.9153739298
