0.1718727717
0.0000000000
0.0000000000
-0.1713252282
6438382.3879829803
5668378.2687622895
