0.1006777185
0.0000000000
0.0000000000
-0.1274943282
6428212.5861029904
5662168.9206812596
