0.0860891059
0.0000000000
0.0000000000
-0.0853968593
6432129.3148322897
5668991.9377300199
