0.3032616214
0.0000000000
0.0000000000
-0.1875015374
6430676.8151253900
5670094.0314538497
