0.0858076105
0.0000000000
0.0000000000
-0.0852250752
6430288.8313562199
5659161.8579505403
