0.1718912610
0.0000000000
0.0000000000
-0.1709830087
6435743.5769301597
5660066.4924965799
