0.0854706475
0.0000000000
0.0000000000
-0.0859872760
6426115.1233363999
5668867.4016849399
