0.1736400997
0.0000000000
0.0000000000
-0.1703442389
6431968.0830743602
5660106.6795365196
