0.0425420199
0.0000000000
0.0000000000
-0.0428798087
6431956.2069136398
5663401.2834311305
