0.1348853177
0.0000000000
0.0000000000
-0.1355064190
6437031.2818227997
5670020.8015773501
