0.0885683705
0.0000000000
0.0000000000
-0.0894344996
6433224.7193874996
5664896.1012627399
