0.0856558374
0.0000000000
0.0000000000
-0.0857942342
6434183.2311229501
5668058.3386654099
