0.1985104556
0.0000000000
0.0000000000
-0.1987702274
6420844.4466107199
5665355.7319265697
