0.0853887052
0.0000000000
0.0000000000
-0.0861541295
6421480.8729070304
5667325.0767255202
