0.1725343785
0.0000000000
0.0000000000
-0.1706385176
6437261.2573885703
5670194.5219216198
