0.1111149825
0.0000000000
0.0000000000
-0.1101170606
6427895.9392890902
5669316.1364220101
