0.1976251838
0.0000000000
0.0000000000
-0.1967294390
6431147.2451673504
5663326.8127707997
