0.1719644818
0.0000000000
0.0000000000
-0.1709700809
6434816.0527071096
5662716.6776445098
