0.0865589251
0.0000000000
0.0000000000
-0.0858660894
6428105.5893645696
5668005.6484371601
