0.1051377118
0.0000000000
0.0000000000
-0.1056320414
6429374.5535797896
5665616.4708246700
