0.1540796297
0.0000000000
0.0000000000
-0.1531946897
6431772.3587267604
5662878.1713249004
