1.4902015503
0.0000000000
0.0000000000
-1.4854862909
6423560.5371287698
5664944.1144118104
