0.0854843586
0.0000000000
0.0000000000
-0.0859932178
6428812.1368432697
5661281.9029542096
