0.3302542047
0.0000000000
0.0000000000
-0.3334232048
6424429.1338299299
5662757.2609580504
