0.0612765055
0.0000000000
0.0000000000
-0.0609559865
6427918.3242118396
5664514.6832396695
