0.0855362262
0.0000000000
0.0000000000
-0.0858968824
6431505.3437874401
5664944.3532667998
